BEGIN:VCALENDAR
VERSION:2.0
PRODID:-//Tri-Parish Community - ECPv4.6.10.1//NONSGML v1.0//EN
CALSCALE:GREGORIAN
METHOD:PUBLISH
X-WR-CALNAME:Tri-Parish Community
X-ORIGINAL-URL:https://triparishchurches.com
X-WR-CALDESC:Events for Tri-Parish Community
BEGIN:VEVENT
DTSTART;TZID=UTC-8:20230222T000000
DTEND;TZID=UTC-8:20230222T000000
DTSTAMP:20260424T211502
CREATED:20230220T170140Z
LAST-MODIFIED:20230220T170140Z
UID:3336-1677024000-1677024000@triparishchurches.com
SUMMARY:Ash Wednesday\, Masses: 7 am St. Mary’s\, 12 noon - Assumption; 5:30 pm at St. Anthony
DESCRIPTION:
URL:https://triparishchurches.com/event/ash-wednesday-masses-7-am-st-marys-12-noon-assumption-530-pm-at-st-anthony/
LOCATION:503 Garrett ST\, Cottonwood\, ID\, 83522\, United States
END:VEVENT
END:VCALENDAR