BEGIN:VCALENDAR
VERSION:2.0
PRODID:-//Tri-Parish Community - ECPv4.6.10.1//NONSGML v1.0//EN
CALSCALE:GREGORIAN
METHOD:PUBLISH
X-WR-CALNAME:Tri-Parish Community
X-ORIGINAL-URL:https://triparishchurches.com
X-WR-CALDESC:Events for Tri-Parish Community
BEGIN:VEVENT
DTSTART;TZID=UTC-8:20231105T110000
DTEND;TZID=UTC-8:20231105T160000
DTSTAMP:20260423T224603
CREATED:20231102T145742Z
LAST-MODIFIED:20231102T145742Z
UID:3480-1699182000-1699200000@triparishchurches.com
SUMMARY:Assumption Parish Dinner
DESCRIPTION:
URL:https://triparishchurches.com/event/assumption-parish-dinner/
LOCATION:460 Maple Street\, Ferdinand\, ID\, 83526\, United States
END:VEVENT
END:VCALENDAR