BEGIN:VCALENDAR
VERSION:2.0
PRODID:-//Tri-Parish Community - ECPv4.6.10.1//NONSGML v1.0//EN
CALSCALE:GREGORIAN
METHOD:PUBLISH
X-WR-CALNAME:Tri-Parish Community
X-ORIGINAL-URL:https://triparishchurches.com
X-WR-CALDESC:Events for Tri-Parish Community
BEGIN:VEVENT
DTSTART;TZID=UTC-8:20230108T100000
DTEND;TZID=UTC-8:20230108T100000
DTSTAMP:20260426T022700
CREATED:20230106T203029Z
LAST-MODIFIED:20230106T203029Z
UID:3302-1673172000-1673172000@triparishchurches.com
SUMMARY:Confirmation Class\, 10:00 am\, St. Mary’s
DESCRIPTION:
URL:https://triparishchurches.com/event/confirmation-class-1000-am-st-marys/
LOCATION:503 Garrett ST\, Cottonwood\, ID\, 83522\, United States
CATEGORIES:Youth
END:VEVENT
END:VCALENDAR