BEGIN:VCALENDAR
VERSION:2.0
PRODID:-//Tri-Parish Community - ECPv4.6.10.1//NONSGML v1.0//EN
CALSCALE:GREGORIAN
METHOD:PUBLISH
X-WR-CALNAME:Tri-Parish Community
X-ORIGINAL-URL:https://triparishchurches.com
X-WR-CALDESC:Events for Tri-Parish Community
BEGIN:VEVENT
DTSTART;TZID=UTC-8:20240212T190000
DTEND;TZID=UTC-8:20240212T203000
DTSTAMP:20260423T153110
CREATED:20231103T195932Z
LAST-MODIFIED:20231103T195932Z
UID:3496-1707764400-1707769800@triparishchurches.com
SUMMARY:Confirmation Class - 7PM
DESCRIPTION:
URL:https://triparishchurches.com/event/confirmation-class-7pm-4/
END:VEVENT
END:VCALENDAR