BEGIN:VCALENDAR
VERSION:2.0
PRODID:-//Tri-Parish Community - ECPv4.6.10.1//NONSGML v1.0//EN
CALSCALE:GREGORIAN
METHOD:PUBLISH
X-WR-CALNAME:Tri-Parish Community
X-ORIGINAL-URL:https://triparishchurches.com
X-WR-CALDESC:Events for Tri-Parish Community
BEGIN:VEVENT
DTSTART;TZID=UTC-8:20240318T190000
DTEND;TZID=UTC-8:20240318T203000
DTSTAMP:20260420T093926
CREATED:20231103T200014Z
LAST-MODIFIED:20231103T200014Z
UID:3500-1710788400-1710793800@triparishchurches.com
SUMMARY:Confirmation Class - 7PM
DESCRIPTION:
URL:https://triparishchurches.com/event/confirmation-class-7pm-6/
END:VEVENT
END:VCALENDAR