BEGIN:VCALENDAR
VERSION:2.0
PRODID:-//Tri-Parish Community - ECPv4.6.10.1//NONSGML v1.0//EN
CALSCALE:GREGORIAN
METHOD:PUBLISH
X-WR-CALNAME:Tri-Parish Community
X-ORIGINAL-URL:https://triparishchurches.com
X-WR-CALDESC:Events for Tri-Parish Community
BEGIN:VEVENT
DTSTART;TZID=UTC-8:20220318T094500
DTEND;TZID=UTC-8:20220318T094500
DTSTAMP:20260422T085154
CREATED:20220325T171354Z
LAST-MODIFIED:20220325T171354Z
UID:3003-1647596700-1647596700@triparishchurches.com
SUMMARY:Father/Son Breakfast at Assumption\, 9:45
DESCRIPTION:
URL:https://triparishchurches.com/event/fatherson-breakfast-at-assumption-945/
LOCATION:460 Maple Street\, Ferdinand\, ID\, 83526\, United States
END:VEVENT
END:VCALENDAR