BEGIN:VCALENDAR
VERSION:2.0
PRODID:-//Tri-Parish Community - ECPv4.6.10.1//NONSGML v1.0//EN
CALSCALE:GREGORIAN
METHOD:PUBLISH
X-WR-CALNAME:Tri-Parish Community
X-ORIGINAL-URL:https://triparishchurches.com
X-WR-CALDESC:Events for Tri-Parish Community
BEGIN:VEVENT
DTSTART;TZID=UTC-8:20230128T090000
DTEND;TZID=UTC-8:20230128T090000
DTSTAMP:20260425T022236
CREATED:20230105T235321Z
LAST-MODIFIED:20230105T235321Z
UID:3261-1674896400-1674896400@triparishchurches.com
SUMMARY:First Reconciliation\, St. Mary’s\, 9:00 am.
DESCRIPTION:
URL:https://triparishchurches.com/event/first-reconciliation-st-marys-900-am/
LOCATION:503 Garrett ST\, Cottonwood\, ID\, 83522\, United States
END:VEVENT
END:VCALENDAR