BEGIN:VCALENDAR
VERSION:2.0
PRODID:-//Tri-Parish Community - ECPv4.6.10.1//NONSGML v1.0//EN
CALSCALE:GREGORIAN
METHOD:PUBLISH
X-WR-CALNAME:Tri-Parish Community
X-ORIGINAL-URL:https://triparishchurches.com
X-WR-CALDESC:Events for Tri-Parish Community
BEGIN:VEVENT
DTSTART;TZID=UTC-8:20230117T000000
DTEND;TZID=UTC-8:20230117T000000
DTSTAMP:20260425T105632
CREATED:20230105T235319Z
LAST-MODIFIED:20230105T235319Z
UID:3256-1673913600-1673913600@triparishchurches.com
SUMMARY:GITS Core Team meeting\, St. Mary’s
DESCRIPTION:
URL:https://triparishchurches.com/event/gits-core-team-meeting-st-marys/
LOCATION:503 Garrett ST\, Cottonwood\, ID\, 83522\, United States
END:VEVENT
END:VCALENDAR