BEGIN:VCALENDAR
VERSION:2.0
PRODID:-//Tri-Parish Community - ECPv4.6.10.1//NONSGML v1.0//EN
CALSCALE:GREGORIAN
METHOD:PUBLISH
X-WR-CALNAME:Tri-Parish Community
X-ORIGINAL-URL:https://triparishchurches.com
X-WR-CALDESC:Events for Tri-Parish Community
BEGIN:VEVENT
DTSTART;VALUE=DATE:20230224
DTEND;VALUE=DATE:20230227
DTSTAMP:20260424T193405
CREATED:20230105T235703Z
LAST-MODIFIED:20230105T235703Z
UID:3265-1677196800-1677455999@triparishchurches.com
SUMMARY:Hallissey basketball - Boise tournament
DESCRIPTION:https://www.facebook.com/Hallisseybasketball/ \n
URL:https://triparishchurches.com/event/hallissey-basketball-boise-tournament/
END:VEVENT
END:VCALENDAR