BEGIN:VCALENDAR
VERSION:2.0
PRODID:-//Tri-Parish Community - ECPv4.6.10.1//NONSGML v1.0//EN
CALSCALE:GREGORIAN
METHOD:PUBLISH
X-WR-CALNAME:Tri-Parish Community
X-ORIGINAL-URL:https://triparishchurches.com
X-WR-CALDESC:Events for Tri-Parish Community
BEGIN:VEVENT
DTSTART;TZID=UTC-8:20240223T000000
DTEND;TZID=UTC-8:20240223T000000
DTSTAMP:20260423T042652
CREATED:20240216T004933Z
LAST-MODIFIED:20240216T004933Z
UID:3573-1708646400-1708646400@triparishchurches.com
SUMMARY:Hallissey Basketball Tournament in Boise
DESCRIPTION:
URL:https://triparishchurches.com/event/hallissey-basketball-tournament-in-boise/
CATEGORIES:Youth
END:VEVENT
END:VCALENDAR