BEGIN:VCALENDAR
VERSION:2.0
PRODID:-//Tri-Parish Community - ECPv4.6.10.1//NONSGML v1.0//EN
CALSCALE:GREGORIAN
METHOD:PUBLISH
X-WR-CALNAME:Tri-Parish Community
X-ORIGINAL-URL:https://triparishchurches.com
X-WR-CALDESC:Events for Tri-Parish Community
BEGIN:VEVENT
DTSTART;TZID=UTC-8:20230124T183000
DTEND;TZID=UTC-8:20230124T183000
DTSTAMP:20260425T040142
CREATED:20230105T235320Z
LAST-MODIFIED:20230105T235320Z
UID:3260-1674585000-1674585000@triparishchurches.com
SUMMARY:Healing Mass\, 6:30 pm at St. Mary’s. Following Mass is Anointing and the Prayer teams available
DESCRIPTION:
URL:https://triparishchurches.com/event/healing-mass-630-pm-at-st-marys-following-mass-is-anointing-and-the-prayer-teams-available/
LOCATION:503 Garrett ST\, Cottonwood\, ID\, 83522\, United States
END:VEVENT
END:VCALENDAR