BEGIN:VCALENDAR
VERSION:2.0
PRODID:-//Tri-Parish Community - ECPv4.6.10.1//NONSGML v1.0//EN
CALSCALE:GREGORIAN
METHOD:PUBLISH
X-WR-CALNAME:Tri-Parish Community
X-ORIGINAL-URL:https://triparishchurches.com
X-WR-CALDESC:Events for Tri-Parish Community
BEGIN:VEVENT
DTSTART;TZID=UTC-8:20230228T183000
DTEND;TZID=UTC-8:20230228T183000
DTSTAMP:20260424T130235
CREATED:20230220T170144Z
LAST-MODIFIED:20230220T170144Z
UID:3339-1677609000-1677609000@triparishchurches.com
SUMMARY:Healing Mass\, 6:30 pm\, St. Mary’s. Healing Teams will be available to pray with you.
DESCRIPTION:
URL:https://triparishchurches.com/event/healing-mass-630-pm-st-marys-healing-teams-will-be-available-to-pray-with-you/
LOCATION:503 Garrett ST\, Cottonwood\, ID\, 83522\, United States
END:VEVENT
END:VCALENDAR