BEGIN:VCALENDAR
VERSION:2.0
PRODID:-//Tri-Parish Community - ECPv4.6.10.1//NONSGML v1.0//EN
CALSCALE:GREGORIAN
METHOD:PUBLISH
X-WR-CALNAME:Tri-Parish Community
X-ORIGINAL-URL:https://triparishchurches.com
X-WR-CALDESC:Events for Tri-Parish Community
BEGIN:VEVENT
DTSTART;TZID=UTC-8:20230319T100000
DTEND;TZID=UTC-8:20230319T100000
DTSTAMP:20260424T075407
CREATED:20230220T170146Z
LAST-MODIFIED:20230220T170146Z
UID:3352-1679220000-1679220000@triparishchurches.com
SUMMARY:Holy Cross Dinner & Raffle
DESCRIPTION:
URL:https://triparishchurches.com/event/holy-cross-dinner-raffle-2/
END:VEVENT
END:VCALENDAR