BEGIN:VCALENDAR
VERSION:2.0
PRODID:-//Tri-Parish Community - ECPv4.6.10.1//NONSGML v1.0//EN
CALSCALE:GREGORIAN
METHOD:PUBLISH
X-WR-CALNAME:Tri-Parish Community
X-ORIGINAL-URL:https://triparishchurches.com
X-WR-CALDESC:Events for Tri-Parish Community
BEGIN:VEVENT
DTSTART;TZID=UTC-8:20240317T110000
DTEND;TZID=UTC-8:20240317T160000
DTSTAMP:20260422T121724
CREATED:20240216T005038Z
LAST-MODIFIED:20240216T005038Z
UID:3586-1710673200-1710691200@triparishchurches.com
SUMMARY:Holy Cross Parish Dinner
DESCRIPTION:
URL:https://triparishchurches.com/event/holy-cross-parish-dinner/
END:VEVENT
END:VCALENDAR