BEGIN:VCALENDAR
VERSION:2.0
PRODID:-//Tri-Parish Community - ECPv4.6.10.1//NONSGML v1.0//EN
CALSCALE:GREGORIAN
METHOD:PUBLISH
X-WR-CALNAME:Tri-Parish Community
X-ORIGINAL-URL:https://triparishchurches.com
X-WR-CALDESC:Events for Tri-Parish Community
BEGIN:VEVENT
DTSTART;TZID=UTC-8:20230228T153000
DTEND;TZID=UTC-8:20230228T153000
DTSTAMP:20260424T162441
CREATED:20230220T170140Z
LAST-MODIFIED:20230220T170140Z
UID:3334-1677598200-1677598200@triparishchurches.com
SUMMARY:Jesus and Coffee Group at The Habit 3:30 pm
DESCRIPTION:
URL:https://triparishchurches.com/event/jesus-and-coffee-group-at-the-habit-330-pm/
CATEGORIES:Youth
END:VEVENT
END:VCALENDAR