BEGIN:VCALENDAR
VERSION:2.0
PRODID:-//Tri-Parish Community - ECPv4.6.10.1//NONSGML v1.0//EN
CALSCALE:GREGORIAN
METHOD:PUBLISH
X-WR-CALNAME:Tri-Parish Community
X-ORIGINAL-URL:https://triparishchurches.com
X-WR-CALDESC:Events for Tri-Parish Community
BEGIN:VEVENT
DTSTART;TZID=UTC-8:20250209T070000
DTEND;TZID=UTC-8:20250209T100000
DTSTAMP:20260419T131841
CREATED:20241204T004326Z
LAST-MODIFIED:20241204T004326Z
UID:3975-1739084400-1739095200@triparishchurches.com
SUMMARY:KC Breakfast
DESCRIPTION:
URL:https://triparishchurches.com/event/kc-breakfast-52/
LOCATION:Cottonwood\, ID\, 83522\, United States
CATEGORIES:Event
END:VEVENT
END:VCALENDAR