BEGIN:VCALENDAR
VERSION:2.0
PRODID:-//Tri-Parish Community - ECPv4.6.10.1//NONSGML v1.0//EN
CALSCALE:GREGORIAN
METHOD:PUBLISH
X-WR-CALNAME:Tri-Parish Community
X-ORIGINAL-URL:https://triparishchurches.com
X-WR-CALDESC:Events for Tri-Parish Community
BEGIN:VEVENT
DTSTART;TZID=UTC-8:20240220T183000
DTEND;TZID=UTC-8:20240220T183000
DTSTAMP:20260423T102625
CREATED:20240216T004934Z
LAST-MODIFIED:20240216T004934Z
UID:3578-1708453800-1708453800@triparishchurches.com
SUMMARY:Lenten Spiritual Exercises following 6:30 pm Mass at St. Mary’s. See insert in bulletin.
DESCRIPTION:
URL:https://triparishchurches.com/event/lenten-spiritual-exercises-following-630-pm-mass-at-st-marys-see-insert-in-bulletin/
LOCATION:503 Garrett ST\, Cottonwood\, ID\, 83522\, United States
END:VEVENT
END:VCALENDAR