BEGIN:VCALENDAR
VERSION:2.0
PRODID:-//Tri-Parish Community - ECPv4.6.10.1//NONSGML v1.0//EN
CALSCALE:GREGORIAN
METHOD:PUBLISH
X-WR-CALNAME:Tri-Parish Community
X-ORIGINAL-URL:https://triparishchurches.com
X-WR-CALDESC:Events for Tri-Parish Community
BEGIN:VEVENT
DTSTART;TZID=UTC-8:20240211T093000
DTEND;TZID=UTC-8:20240211T093000
DTSTAMP:20260423T170831
CREATED:20240216T004933Z
LAST-MODIFIED:20240216T004933Z
UID:3575-1707643800-1707643800@triparishchurches.com
SUMMARY:OCIA\, St. Mary’s\, 9:30 am
DESCRIPTION:
URL:https://triparishchurches.com/event/ocia-st-marys-930-am/
LOCATION:503 Garrett ST\, Cottonwood\, ID\, 83522\, United States
END:VEVENT
END:VCALENDAR