BEGIN:VCALENDAR
VERSION:2.0
PRODID:-//Tri-Parish Community - ECPv4.6.10.1//NONSGML v1.0//EN
CALSCALE:GREGORIAN
METHOD:PUBLISH
X-WR-CALNAME:Tri-Parish Community
X-ORIGINAL-URL:https://triparishchurches.com
X-WR-CALDESC:Events for Tri-Parish Community
BEGIN:VEVENT
DTSTART;TZID=UTC-8:20230226T170000
DTEND;TZID=UTC-8:20230226T170000
DTSTAMP:20260424T175346
CREATED:20230220T170141Z
LAST-MODIFIED:20230220T170141Z
UID:3338-1677430800-1677430800@triparishchurches.com
SUMMARY:RCIA\, St. Mary’s\, 5:00 pm
DESCRIPTION:
URL:https://triparishchurches.com/event/rcia-st-marys-500-pm/
LOCATION:503 Garrett ST\, Cottonwood\, ID\, 83522\, United States
END:VEVENT
END:VCALENDAR