BEGIN:VCALENDAR
VERSION:2.0
PRODID:-//Tri-Parish Community - ECPv4.6.10.1//NONSGML v1.0//EN
CALSCALE:GREGORIAN
METHOD:PUBLISH
X-WR-CALNAME:Tri-Parish Community
X-ORIGINAL-URL:https://triparishchurches.com
X-WR-CALDESC:Events for Tri-Parish Community
BEGIN:VEVENT
DTSTART;TZID=UTC-8:20230115T170000
DTEND;TZID=UTC-8:20230115T170000
DTSTAMP:20260425T122922
CREATED:20230105T235318Z
LAST-MODIFIED:20230105T235318Z
UID:3255-1673802000-1673802000@triparishchurches.com
SUMMARY:RCIA\, St. Mary’s Church\, 5 pm.
DESCRIPTION:
URL:https://triparishchurches.com/event/rcia-st-marys-church-5-pm-2/
LOCATION:503 Garrett ST\, Cottonwood\, ID\, 83522\, United States
END:VEVENT
END:VCALENDAR