BEGIN:VCALENDAR
VERSION:2.0
PRODID:-//Tri-Parish Community - ECPv4.6.10.1//NONSGML v1.0//EN
CALSCALE:GREGORIAN
METHOD:PUBLISH
X-WR-CALNAME:Tri-Parish Community
X-ORIGINAL-URL:https://triparishchurches.com
X-WR-CALDESC:Events for Tri-Parish Community
BEGIN:VEVENT
DTSTART;TZID=UTC-8:20240322T180000
DTEND;TZID=UTC-8:20240322T180000
DTSTAMP:20260420T073423
CREATED:20240216T004935Z
LAST-MODIFIED:20240216T004935Z
UID:3585-1711130400-1711130400@triparishchurches.com
SUMMARY:Stations of the Cross\, 6 pm\, St. Mary’s
DESCRIPTION:
URL:https://triparishchurches.com/event/stations-of-the-cross-6-pm-st-marys-6/
LOCATION:503 Garrett ST\, Cottonwood\, ID\, 83522\, United States
END:VEVENT
END:VCALENDAR