BEGIN:VCALENDAR
VERSION:2.0
PRODID:-//Tri-Parish Community - ECPv4.6.10.1//NONSGML v1.0//EN
CALSCALE:GREGORIAN
METHOD:PUBLISH
X-WR-CALNAME:Tri-Parish Community
X-ORIGINAL-URL:https://triparishchurches.com
X-WR-CALDESC:Events for Tri-Parish Community
BEGIN:VEVENT
DTSTART;TZID=UTC-8:20240318T180000
DTEND;TZID=UTC-8:20240318T180000
DTSTAMP:20260422T104918
CREATED:20240216T004931Z
LAST-MODIFIED:20240216T004931Z
UID:3570-1710784800-1710784800@triparishchurches.com
SUMMARY:Tri-Parish sponsored Lenten Fellowship Movie Night at Blue Fox in Grangeville\, 6:00 pm -  Knives Out – Rated PG-13
DESCRIPTION:
URL:https://triparishchurches.com/event/tri-parish-sponsored-lenten-fellowship-movie-night-at-blue-fox-in-grangeville-600-pm-knives-out-rated-pg-13/
END:VEVENT
END:VCALENDAR