BEGIN:VCALENDAR
VERSION:2.0
PRODID:-//Tri-Parish Community - ECPv4.6.10.1//NONSGML v1.0//EN
CALSCALE:GREGORIAN
METHOD:PUBLISH
X-WR-CALNAME:Tri-Parish Community
X-ORIGINAL-URL:https://triparishchurches.com
X-WR-CALDESC:Events for Tri-Parish Community
BEGIN:VEVENT
DTSTART;TZID=UTC-8:19700101T000000
DTEND;TZID=UTC-8:20260307T000000
DTSTAMP:20260422T115341
CREATED:20260226T180721Z
LAST-MODIFIED:20260226T180721Z
UID:4300-0-1772841600@triparishchurches.com
SUMMARY:Adoration over First Friday\, begins 7 pm Thursday through to 8 am on Saturday St. Mary’s\,
DESCRIPTION:
URL:https://triparishchurches.com/event/adoration-over-first-friday-begins-7-pm-thursday-through-to-8-am-on-saturday-st-marys/
END:VEVENT
BEGIN:VEVENT
DTSTART;TZID=UTC-8:20251102T110000
DTEND;TZID=UTC-8:20251102T160000
DTSTAMP:20260422T115341
CREATED:20241204T004334Z
LAST-MODIFIED:20241204T004334Z
UID:4001-1762081200-1762099200@triparishchurches.com
SUMMARY:Assumption Parish Dinner
DESCRIPTION:
URL:https://triparishchurches.com/event/assumption-parish-dinner-5/
LOCATION:460 Maple Street\, Ferdinand\, ID\, 83526\, United States
CATEGORIES:Event
END:VEVENT
END:VCALENDAR