BEGIN:VCALENDAR
VERSION:2.0
PRODID:-//Tri-Parish Community - ECPv4.6.10.1//NONSGML v1.0//EN
CALSCALE:GREGORIAN
METHOD:PUBLISH
X-WR-CALNAME:Tri-Parish Community
X-ORIGINAL-URL:https://triparishchurches.com
X-WR-CALDESC:Events for Tri-Parish Community
BEGIN:VEVENT
DTSTART;TZID=UTC-8:20271107T110000
DTEND;TZID=UTC-8:20271107T160000
DTSTAMP:20260423T174316
CREATED:20241204T004334Z
LAST-MODIFIED:20241204T004334Z
UID:4003-1825585200-1825603200@triparishchurches.com
SUMMARY:Assumption Parish Dinner
DESCRIPTION:
URL:https://triparishchurches.com/event/assumption-parish-dinner-7/
LOCATION:460 Maple Street\, Ferdinand\, ID\, 83526\, United States
CATEGORIES:Event
END:VEVENT
END:VCALENDAR